Workbook
Name half_inch: '[1]Proj Info'!$X$30
Name no_eight: '[1]Proj Info'!$X$33
Name no_fifty: '[1]Proj Info'!$X$36
Name no_four: '[1]Proj Info'!$X$32
Name no_one_hundred: '[1]Proj Info'!$X$37
Name no_sixteen: '[1]Proj Info'!$X$34
Name no_thirty: '[1]Proj Info'!$X$35
Name no_two_hundred: '[1]Proj Info'!$X$38
Name one_inch: '[1]Proj Info'!$X$28
Name one_one_half: '[1]Proj Info'!$X$27
Name Signature: #REF!
Name Signature: #REF!
Name Testers: #REF!
Name Testers: #REF!
Name three_eighths: '[1]Proj Info'!$X$31
Name three_quarter: '[1]Proj Info'!$X$29
Name two_inch: '[1]Proj Info'!$X$25

Sheet Idaho IR-157 Report
B2: TEST STRIP LAB NUMBER | E2: IDAHO IR-157 DETERMINING NCAT CORRECTION FACTOR REPORT Idaho Transportation Department | Q2: ITD 0917 (Rev. 5-2022) itd.idaho.gov
B4: TEST STRIP LAB REPORT DATE
B6: SAMPLE INFORMATION
B7: KEY # | D7: PROJECT NAME | M7: DISTRICT | N7: SAMPLE SERIAL NUMBER | Q7: SAMPLE SERIAL NUMBER
B9: PROJECT # | D9: FOP FOR AASHTO T 308 ASPHALT CONTENT BY IGNITION METHOD | I9: ASPHALT CONTENT BY ASTM D8159 / FOP FOR AASHTO T 30 SIEVE ANALYSIS | N9: Difference | P9: Correction Factor
D11: Increment 1 | E11: Increment 2 | F11: Increment 3 | G11: Average | I11: Average from ITD Central Materials Lab Report
B12: AC, % | D12: =IF('T 308 IGNITION CF'!F14="","",'T 308 IGNITION CF'!F14) | E12: =IF('T 308 IGNITION CF'!L14="","",'T 308 IGNITION CF'!L14) | F12: =IF('T 308 IGNITION CF'!R14="","",'T 308 IGNITION CF'!R14) | G12: =IF(COUNT(D12:F12)<3,"",AVERAGE(D12:F12)) | N12: =IF(OR(G12="",I12=""),"",G12-I12) | P12: =N12 | U12: IR-157 8.4 requirements
B13: Percent Passing 1" (25mm) Sieve | D13: ='T 308 IGNITION CF'!F26 | E13: ='T 308 IGNITION CF'!L26 | F13: ='T 308 IGNITION CF'!R26 | G13: =IF(COUNT(D13:F13)<3,"",AVERAGE(D13:F13)) | N13: =IF(OR(G13="",I13=""),"",G13-I13) | P13: =IF(N13="","",IF(OR(MIN(U$13:U$22)<0,MAX(U$13:U$22)>0),N13,0)) | U13: =IF(OR(N13>5,N13<-5),N13,0)
B14: Percent Passing 3/4" (19mm) Sieve | D14: ='T 308 IGNITION CF'!F27 | E14: ='T 308 IGNITION CF'!L27 | F14: ='T 308 IGNITION CF'!R27 | G14: =IF(COUNT(D14:F14)<3,"",AVERAGE(D14:F14)) | N14: =IF(OR(G14="",I14=""),"",G14-I14) | P14: =IF(N14="","",IF(OR(MIN(U$13:U$22)<0,MAX(U$13:U$22)>0),N14,0)) | U14: =IF(OR(N14>5,N14<-5),N14,0)
B15: Percent Passing 1/2" (12.5mm) Sieve | D15: ='T 308 IGNITION CF'!F28 | E15: ='T 308 IGNITION CF'!L28 | F15: ='T 308 IGNITION CF'!R28 | G15: =IF(COUNT(D15:F15)<3,"",AVERAGE(D15:F15)) | N15: =IF(OR(G15="",I15=""),"",G15-I15) | P15: =IF(N15="","",IF(OR(MIN(U$13:U$22)<0,MAX(U$13:U$22)>0),N15,0)) | U15: =IF(OR(N15>5,N15<-5),N15,0)
B16: Percent Passing 3/8" (9.5mm) Sieve | D16: ='T 308 IGNITION CF'!F29 | E16: ='T 308 IGNITION CF'!L29 | F16: ='T 308 IGNITION CF'!R29 | G16: =IF(COUNT(D16:F16)<3,"",AVERAGE(D16:F16)) | N16: =IF(OR(G16="",I16=""),"",G16-I16) | P16: =IF(N16="","",IF(OR(MIN(U$13:U$22)<0,MAX(U$13:U$22)>0),N16,0)) | U16: =IF(OR(N16>5,N16<-5),N16,0)
B17: Percent Passing No. 4 (4.75mm) Sieve | D17: ='T 308 IGNITION CF'!F30 | E17: ='T 308 IGNITION CF'!L30 | F17: ='T 308 IGNITION CF'!R30 | G17: =IF(COUNT(D17:F17)<3,"",AVERAGE(D17:F17)) | N17: =IF(OR(G17="",I17=""),"",G17-I17) | P17: =IF(N17="","",IF(OR(MIN(U$13:U$22)<0,MAX(U$13:U$22)>0),N17,0)) | U17: =IF(OR(N17>5,N17<-5),N17,0)
B18: Percent Passing No. 8 (2.36mm) Sieve | D18: ='T 308 IGNITION CF'!F31 | E18: ='T 308 IGNITION CF'!L31 | F18: ='T 308 IGNITION CF'!R31 | G18: =IF(COUNT(D18:F18)<3,"",AVERAGE(D18:F18)) | N18: =IF(OR(G18="",I18=""),"",G18-I18) | P18: =IF(N18="","",IF(OR(MIN(U$13:U$22)<0,MAX(U$13:U$22)>0),N18,0)) | U18: =IF(OR(N18>5,N18<-5),N18,0)
B19: Percent Passing No. 16 (1.18mm) Sieve | D19: ='T 308 IGNITION CF'!F32 | E19: ='T 308 IGNITION CF'!L32 | F19: ='T 308 IGNITION CF'!R32 | G19: =IF(COUNT(D19:F19)<3,"",AVERAGE(D19:F19)) | N19: =IF(OR(G19="",I19=""),"",G19-I19) | P19: =IF(N19="","",IF(OR(MIN(U$13:U$22)<0,MAX(U$13:U$22)>0),N19,0)) | U19: =IF(OR(N19>3,N19<-3),N19,0)
B20: Percent Passing No. 30 (0.600mm) Sieve | D20: ='T 308 IGNITION CF'!F33 | E20: ='T 308 IGNITION CF'!L33 | F20: ='T 308 IGNITION CF'!R33 | G20: =IF(COUNT(D20:F20)<3,"",AVERAGE(D20:F20)) | N20: =IF(OR(G20="",I20=""),"",G20-I20) | P20: =IF(N20="","",IF(OR(MIN(U$13:U$22)<0,MAX(U$13:U$22)>0),N20,0)) | U20: =IF(OR(N20>3,N20<-3),N20,0)
B21: Percent Passing No. 50 (0.300mm) Sieve | D21: ='T 308 IGNITION CF'!F34 | E21: ='T 308 IGNITION CF'!L34 | F21: ='T 308 IGNITION CF'!R34 | G21: =IF(COUNT(D21:F21)<3,"",AVERAGE(D21:F21)) | N21: =IF(OR(G21="",I21=""),"",G21-I21) | P21: =IF(N21="","",IF(OR(MIN(U$13:U$22)<0,MAX(U$13:U$22)>0),N21,0)) | U21: =IF(OR(N21>3,N21<-3),N21,0)
B22: Percent Passing No. 100 (0.150mm) Sieve | D22: ='T 308 IGNITION CF'!F35 | E22: ='T 308 IGNITION CF'!L35 | F22: ='T 308 IGNITION CF'!R35 | G22: =IF(COUNT(D22:F22)<3,"",AVERAGE(D22:F22)) | N22: =IF(OR(G22="",I22=""),"",G22-I22) | P22: =IF(N22="","",IF(OR(MIN(U$13:U$22)<0,MAX(U$13:U$22)>0),N22,0)) | U22: =IF(OR(N22>3,N22<-3),N22,0)
B23: Percent Passing No. 200 (0.075mm) Sieve | D23: ='T 308 IGNITION CF'!F36 | E23: ='T 308 IGNITION CF'!L36 | F23: ='T 308 IGNITION CF'!R36 | G23: =IF(COUNT(D23:F23)<3,"",AVERAGE(D23:F23)) | N23: =IF(OR(G23="",I23=""),"",G23-I23) | P23: =IF(N23="","",IF(OR(MIN(U$13:U$23)<0,MAX(U13:U23)>0),N23,0)) | U23: =IF(OR(N23>0.5,N23<-0.5),N23,0)
O25: LABORATORY NUMBER | Q25: =IF('T 308 IGNITION CF'!D10="","",'T 308 IGNITION CF'!D10)
O26: IGNITION FURNACE ID | Q26: =IF('T 308 IGNITION CF'!O10="","",'T 308 IGNITION CF'!O10)
O27: IGNITION FURNACE TEMPERATURE | Q27: =IF('T 308 IGNITION CF'!H10="","",'T 308 IGNITION CF'!H10)
B29: REVIEWED BY* | E29: WAQTC # | G29: DATE | H29: REVIEW REMARKS:
B31: *By signing this form, I certify that this is the original sample/testing source document and the information provided is complete, true and in accordance with the WAQTC Rights and Responsibilities Agreement. I am also aware that both State and Federal laws may govern construction projects, including Title 18, United States Code, Section 1020, which in brief states that anyone making falsifications on Federal-aid projects, “Shall be fined not more than $10,000 or imprisoned not more than five years, or both.”
D47: =IFERROR(IF(#REF!="","",(#REF!-#REF!)/#REF!)*100,"") | J47: =IFERROR(IF(#REF!="","",(#REF!-#REF!)/#REF!)*100,"") | P47: =IFERROR(IF(#REF!="","",(#REF!-#REF!)/#REF!)*100,"")

Sheet T 308 IGNITION CF
B2: TEST STRIP LAB NUMBER | F2: IDAHO IR-157 DETERMINING NCAT CORRECTION FACTOR REPORT Idaho Transportation Department | R2: ITD 0917 (Rev. 5-2022) itd.idaho.gov
B3: =IF('Idaho IR-157 Report'!B3="","",'Idaho IR-157 Report'!B3)
B4: TEST STRIP LAB REPORT DATE
B5: =IF('Idaho IR-157 Report'!B5="","",'Idaho IR-157 Report'!B5)
B6: SAMPLE INFORMATION
B7: KEY # | D7: PROJECT NAME | M7: DISTRICT | N7: SAMPLE SERIAL NUMBER | Q7: SAMPLE SERIAL NUMBER
B8: =IF('Idaho IR-157 Report'!B8:C8="","",'Idaho IR-157 Report'!B8:C8) | D8: =IF('Idaho IR-157 Report'!D8:L8="","",'Idaho IR-157 Report'!D8:L8) | M8: =IF('Idaho IR-157 Report'!M8="","",'Idaho IR-157 Report'!M8) | N8: =IF('Idaho IR-157 Report'!N8:P8="","",'Idaho IR-157 Report'!N8:P8) | Q8: =IF('Idaho IR-157 Report'!Q8:R8="","",'Idaho IR-157 Report'!Q8:R8)
B9: ASPHALT CONTENT AVERAGES AND CORRECTION FACTOR
B10: LABORATORY NUMBER | F10: IGNITION FURNACE TEMPERATURE | M10: IGNITION FURNACE ID
B11: FOP FOR AASHTO T 308 ASPHALT CONTENT BY IGNITION METHOD
B12: T 308- IGNITION SAMPLE 1 | H12: T 308- IGNITION SAMPLE 2 | N12: T 308- IGNITION SAMPLE 3
B13: BASKET ASSEMBLY | E13: CALC'D FINAL SAMPLE | F13: =IF(C16="","",C16-C13) | H13: BASKET ASSEMBLY | K13: CALC'D FINAL SAMPLE | L13: =IF(I16="","",I16-I13) | N13: BASKET ASSEMBLY | Q13: CALC'D FINAL SAMPLE | R13: =IF(O16="","",O16-O13)
B14: BASKET AND INITIAL SAMPLE | E14: TICKET AC% | H14: BASKET AND INITIAL SAMPLE | K14: TICKET AC% | N14: BASKET AND INITIAL SAMPLE | Q14: TICKET AC%
B15: CALC'D INITIAL SAMPLE | C15: =IF(C14="","",C14-C13) | E15: TRANSFER BOWL | H15: CALC'D INITIAL SAMPLE | I15: =IF(I14="","",I14-I13) | K15: TRANSFER BOWL | N15: CALC'D INITIAL SAMPLE | O15: =IF(O14="","",O14-O13) | Q15: TRANSFER BOWL
B16: BASKET AND FINAL AGG | E16: TRANSFER MASS & BOWL | H16: BASKET AND FINAL AGG | K16: TRANSFER MASS & BOWL | N16: BASKET AND FINAL AGG | Q16: TRANSFER MASS & BOWL
B17: =IF(F16="","REMARKS:","REMARKS: Transfer Mass- "&F16-F15) -> REMARKS: | H17: =IF(L16="","REMARKS:","REMARKS: Transfer Mass- "&L16-L15) -> REMARKS: | N17: =IF(R16="","REMARKS:","REMARKS: Transfer Mass- "&R16-R15) -> REMARKS:
B20: T308 TESTED BY* | E20: WAQTC # | G20: DATE | H20: T308 TESTED BY* | K20: WAQTC # | M20: DATE | N20: T308 TESTED BY* | Q20: WAQTC # | S20: DATE
B22: FOP FOR AASHTO T 30 SIEVE ANALYSIS
B23: IGNITION SAMPLE 1 | H23: IGNITION SAMPLE 2 | N23: IGNITION SAMPLE 3
B24: PAN | D24: PAN AND SAMPLE DRY AFTER WASH | F24: CALC. SAMPLE | G24: =IF(E24="","",E24-C24) | H24: PAN | J24: PAN AND SAMPLE DRY AFTER WASH | L24: CALC. SAMPLE | M24: =IF(K24="","",K24-I24) | N24: PAN | P24: PAN AND SAMPLE DRY AFTER WASH | R24: CALC. SAMPLE | S24: =IF(Q24="","",Q24-O24)
B25: Record to (0.1) Mass (g) | D25: Cumulative Mass Retained | F25: PERCENT PASSING | H25: Record to (0.1) Mass (g) | J25: Cumulative Mass Retained | L25: PERCENT PASSING | N25: Record to (0.1) Mass (g) | P25: Cumulative Mass Retained | R25: PERCENT PASSING
B26: 1" (25mm) Sieve | F26: =IF(D26="","",100-((D26/($F$16-$F$15)*100))) | H26: 1" (25mm) Sieve | L26: =IF(J26="","",100-((J26/($L$16-$L$15)*100))) | N26: 1" (25mm) Sieve | R26: =IF(P26="","",100-((P26/($R$16-$R$15)*100)))
B27: 3/4" (19mm) Sieve | F27: =IF(D27="","",100-((D27/($F$16-$F$15)*100))) | H27: 3/4" (19mm) Sieve | L27: =IF(J27="","",100-((J27/($L$16-$L$15)*100))) | N27: 3/4" (19mm) Sieve | R27: =IF(P27="","",100-((P27/($R$16-$R$15)*100)))
B28: 1/2" (12.5mm) Sieve | F28: =IF(D28="","",100-((D28/($F$16-$F$15)*100))) | H28: 1/2" (12.5mm) Sieve | L28: =IF(J28="","",100-((J28/($L$16-$L$15)*100))) | N28: 1/2" (12.5mm) Sieve | R28: =IF(P28="","",100-((P28/($R$16-$R$15)*100)))
B29: 3/8" (9.5mm) Sieve | F29: =IF(D29="","",100-((D29/($F$16-$F$15)*100))) | H29: 3/8" (9.5mm) Sieve | L29: =IF(J29="","",100-((J29/($L$16-$L$15)*100))) | N29: 3/8" (9.5mm) Sieve | R29: =IF(P29="","",100-((P29/($R$16-$R$15)*100)))
B30: No. 4 (4.75mm) Sieve | F30: =IF(D30="","",100-((D30/($F$16-$F$15)*100))) | H30: No. 4 (4.75mm) Sieve | L30: =IF(J30="","",100-((J30/($L$16-$L$15)*100))) | N30: No. 4 (4.75mm) Sieve | R30: =IF(P30="","",100-((P30/($R$16-$R$15)*100)))
B31: No. 8 (2.36mm) Sieve | F31: =IF(D31="","",100-((D31/($F$16-$F$15)*100))) | H31: No. 8 (2.36mm) Sieve | L31: =IF(J31="","",100-((J31/($L$16-$L$15)*100))) | N31: No. 8 (2.36mm) Sieve | R31: =IF(P31="","",100-((P31/($R$16-$R$15)*100)))
B32: No. 16 (1.18mm) Sieve | F32: =IF(D32="","",100-((D32/($F$16-$F$15)*100))) | H32: No. 16 (1.18mm) Sieve | L32: =IF(J32="","",100-((J32/($L$16-$L$15)*100))) | N32: No. 16 (1.18mm) Sieve | R32: =IF(P32="","",100-((P32/($R$16-$R$15)*100)))
B33: No. 30 (0.600mm) Sieve | F33: =IF(D33="","",100-((D33/($F$16-$F$15)*100))) | H33: No. 30 (0.600mm) Sieve | L33: =IF(J33="","",100-((J33/($L$16-$L$15)*100))) | N33: No. 30 (0.600mm) Sieve | R33: =IF(P33="","",100-((P33/($R$16-$R$15)*100)))
B34: No. 50 (0.300mm) Sieve | F34: =IF(D34="","",100-((D34/($F$16-$F$15)*100))) | H34: No. 50 (0.300mm) Sieve | L34: =IF(J34="","",100-((J34/($L$16-$L$15)*100))) | N34: No. 50 (0.300mm) Sieve | R34: =IF(P34="","",100-((P34/($R$16-$R$15)*100)))
B35: No. 100 (0.150mm) Sieve | F35: =IF(D35="","",100-((D35/($F$16-$F$15)*100))) | H35: No. 100 (0.150mm) Sieve | L35: =IF(J35="","",100-((J35/($L$16-$L$15)*100))) | N35: No. 100 (0.150mm) Sieve | R35: =IF(P35="","",100-((P35/($R$16-$R$15)*100)))
B36: No. 200 (0.075mm) Sieve | F36: =IF(D36="","",100-((D36/($F$16-$F$15)*100))) | H36: No. 200 (0.075mm) Sieve | L36: =IF(J36="","",100-((J36/($L$16-$L$15)*100))) | N36: No. 200 (0.075mm) Sieve | R36: =IF(P36="","",100-((P36/($R$16-$R$15)*100)))
B37: PAN | F37: =IF(D37="","",100-((D37/($F$16-$F$15)*100))) | H37: PAN | L37: =IF(J37="","",100-((J37/($L$16-$L$15)*100))) | N37: PAN | R37: =IF(P37="","",100-((P37/($R$16-$R$15)*100)))
B38: CHECK SUM | D38: =IF(D37="","",ROUND(D48,2)&"%") | F38: =IF(D38="","",IF(D48<=0.2,"PASS","FAIL")) | H38: CHECK SUM | J38: =IF(J37="","",ROUND(J48,2)&"%") | L38: =IF(J38="","",IF(J48<=0.2,"PASS","FAIL")) | N38: CHECK SUM | P38: =IF(P37="","",ROUND(P48,2)&"%") | R38: =IF(P38="","",IF(P48<=0.2,"PASS","FAIL"))
B39: REMARKS: | H39: REMARKS: | N39: REMARKS:
B42: T30 TESTED BY* | E42: WAQTC # | G42: DATE | H42: T30 TESTED BY* | K42: WAQTC # | M42: DATE | N42: T30 TESTED BY* | Q42: WAQTC # | S42: DATE
B44: REVIEWED BY* | E44: WAQTC # | G44: DATE | H44: REVIEW REMARKS:
B46: *By signing this form, I certify that this is the original sample/testing source document and the information provided is complete, true and in accordance with the WAQTC Rights and Responsibilities Agreement. I am also aware that both State and Federal laws may govern construction projects, including Title 18, United States Code, Section 1020, which in brief states that anyone making falsifications on Federal-aid projects, “Shall be fined not more than $10,000 or imprisoned not more than five years, or both.”
D48: =IFERROR(IF($D$37="","",($G$24-$D$37)/$G$24)*100,"") | J48: =IFERROR(IF($J$37="","",($M$24-$J$37)/$M$24)*100,"") | P48: =IFERROR(IF($P$37="","",($S$24-$P$37)/$S$24)*100,"")
