Workbook

Sheet 1048 WS Ult
L1: Geogrid Test Worksheet 1 ASTM D 6637 - Tensile Properties of Geogrids | AZ1: ITD 1048 (Rev. 10-19)
AZ2: itd.idaho.gov
O3: Ultimate Strength
B5: Sample Of | AL5: LIMS Number | AV5: Lab Number
B7: Key Number | H7: Project Number | AC7: Project Name | BF7: District
B9: Sample Identification Number | Z9: Contract Item Number | AR9: Quantity Represented
B11: Send Reports To (Resident Engineer's Name) | T11: Sampled By | AL11: WAQTC Number | AT11: Date Sampled | BB11: Date Lab Received
B14: Method A - Single Rib Test
B15: Sample No. | I15: Breaking Load, lbs. | AF15: Determine number of ribs per unit width (1 foot) - use a 6 ft measurement for the MD unit width.
I16: Machine Direction (MD) | Q16: Cross Machine Direction (XMD)
B17: 1 | AW17: XD | BB17: MD
B18: 2 | AF18: 95% of roll width, b (ft) =
B19: 3 | AF19: No. of ribs in b, Nc =
B20: 4 | AF20: No. of ribs in unit width (ft) Nt = | AW20: =IF(AW18="","",(AW19/AW18)) | BB20: =IF(BB18="","",(BB19/BB18))
B21: 5
B22: Average | I22: =IF(I17="","",AVERAGE(I17:P21)) | Q22: =IF(Q17="","",AVERAGE(Q17:X21))
B23: Standard Dev. | I23: =IF(I17="","",STDEV(I17:P21)) | Q23: =IF(Q17="","",STDEV(Q17:X21))
B25: Method B - Multi-Rib Test
B26: Machine Direction | AG26: Cross Machine Direction
B27: Sample No. | G27: Length in. | L27: Width in. | Q27: Number of Ribs | V27: Breaking Load lbs. | AG27: Sample No. | AL27: Length in. | AQ27: Width in. | AV27: Number of Ribs | BA27: Breaking Load lbs.
B28: 1 | AG28: 1
B29: 2 | AG29: 2
B30: 3 | AG30: 3
B31: 4 | AG31: 4
B32: 5 | AG32: 5
B33: Average | G33: =IF(G28="","",(AVERAGE(G28:K32))) | L33: =IF(L28="","",(AVERAGE(L28:P32))) | Q33: =IF(Q28="","",(AVERAGE(Q28:U32))) | V33: =IF(V28="","",(AVERAGE(V28:AD32))) | AG33: Average | AL33: =IF(AL28="","",(AVERAGE(AL28:AP32))) | AQ33: =IF(AQ28="","",(AVERAGE(AQ28:AU32))) | AV33: =IF(AV28="","",(AVERAGE(AV28:AZ32))) | BA33: =IF(BA28="","",(AVERAGE(BA28:BI32)))
B34: Std. Dev. | V34: =IF(V28="","",(STDEV(V28:AD32))) | AG34: Std. Dev. | BA34: =IF(BA28="","",(STDEV(BA28:BI32)))
B36: Ult. Tensile Strength (lb/ft) | O36: Elongation at Failure (%) | AG36: Ult. Tensile Strength (lb/ft) | AT36: Elongation at Failure (%)
B37: Sample No. | AG37: Sample No.
B38: 1 | G38: =IF(V28="","",(V28/Q28)*AW20) | AG38: 1 | AL38: =IF(BA28="","",(BA28/AV28)*BB20)
B39: 2 | G39: =IF(V29="","",(V29/Q29)*AW20) | AG39: 2 | AL39: =IF(BA29="","",(BA29/AV29)*BB20)
B40: 3 | G40: =IF(V30="","",(V30/Q30)*AW20) | AG40: 3 | AL40: =IF(BA30="","",(BA30/AV30)*BB20)
B41: 4 | G41: =IF(V31="","",(V31/Q31)*AW20) | AG41: 4 | AL41: =IF(BA31="","",(BA31/AV31)*BB20)
B42: 5 | G42: =IF(V32="","",(V32/Q32)*AW20) | AG42: 5 | AL42: =IF(BA32="","",(BA32/AV32)*BB20)
B43: Average | G43: =IF(G38="","",(AVERAGE(G38:N42))) | O43: =IF(O38="","",AVERAGE(O38:AD42)) | AG43: Average | AL43: =IF(AL38="","",(AVERAGE(AL38:AS42))) | AT43: =IF(AT38="","",AVERAGE(AT38:BI42))
B44: Std. Dev. | G44: =IF(G39="","",STDEV(G38:N42)) | O44: =IF(O38="","",(STDEV(O38:AD42))) | AG44: Std. Dev. | AL44: =IF(AL39="","",STDEV(AL38:AS42)) | AT44: =IF(AT38="","",(STDEV(AT38:BI42)))
B46: Tested By | T46: WAQTC Number | AB46: Date Tested | AJ46: Checked By | BB46: Date

Sheet 1048 WS 2%
L1: Geogrid Test Worksheet 2 ASTM D 6637 - Tensile Properties of Geogrids | AZ1: ITD 1048 (Rev. 10-19)
AZ2: itd.idaho.gov
O3: Strength at 2% Strain
B5: Sample Of | AL5: LIMS Number | AV5: Lab Number
B6: =IF('1048 WS Ult'!B6:AD6="","",'1048 WS Ult'!B6:AD6) | AL6: =IF('1048 WS Ult'!AF6:AQ6="","",'1048 WS Ult'!AF6:AQ6) | AV6: =IF('1048 WS Ult'!AV6:BI6="","",'1048 WS Ult'!AV6:BI6)
B7: Key Number | H7: Project Number | AC7: Project Name | BF7: District
B8: =IF('1048 WS Ult'!B8:G8="","",'1048 WS Ult'!B8:G8) | H8: =IF('1048 WS Ult'!H8:AB8="","",'1048 WS Ult'!H8:AB8) | AC8: =IF('1048 WS Ult'!AC8:BE8="","",'1048 WS Ult'!AC8:BE8) | BF8: =IF('1048 WS Ult'!BF8:BI8="","",'1048 WS Ult'!BF8:BI8)
B9: Sample Identification Number | Z9: Contract Item Number | AR9: Quantity Represented
B10: =IF('1048 WS Ult'!B10:Y10="","",'1048 WS Ult'!B10:Y10) | Z10: =IF('1048 WS Ult'!Z10:AQ10="","",'1048 WS Ult'!Z10:AQ10) | AR10: =IF('1048 WS Ult'!AR10:BI10="","",'1048 WS Ult'!AR10:BI10)
B11: Send Reports To (Resident Engineer's Name) | T11: Sampled By | AL11: WAQTC Number | AT11: Date Sampled | BB11: Date Lab Received
B12: =IF('1048 WS Ult'!B12:S12="","",'1048 WS Ult'!B12:S12) | T12: =IF('1048 WS Ult'!T12:AK12="","",'1048 WS Ult'!T12:AK12) | AL12: =IF('1048 WS Ult'!AL12:AS12="","",'1048 WS Ult'!AL12:AS12) | AT12: =IF('1048 WS Ult'!AT12:BA12="","",'1048 WS Ult'!AT12:BA12) | BB12: =IF('1048 WS Ult'!BB12:BI12="","",'1048 WS Ult'!BB12:BI12)
B14: Method A - Single Rib Test
B15: Sample No. | I15: Breaking Load, lbs. | AF15: Determine number of ribs per unit width (1 foot) - use a 6 ft measurement for the MD unit width.
I16: Machine Direction (MD) | Q16: Cross Machine Direction (XMD)
B17: 1 | AW17: XD | BB17: MD
B18: 2 | AF18: 95% of roll width, b (ft) = | AW18: =IF('1048 WS Ult'!AW18:BA18="","",'1048 WS Ult'!AW18:BA18) | BB18: =IF('1048 WS Ult'!BB18:BF18="","",'1048 WS Ult'!BB18:BF18)
B19: 3 | AF19: No. of ribs in b, Nc = | AW19: =IF('1048 WS Ult'!AW19:BA19="","",'1048 WS Ult'!AW19:BA19) | BB19: =IF('1048 WS Ult'!BB19:BF19="","",'1048 WS Ult'!BB19:BF19)
B20: 4 | AF20: No. of ribs in in unti width (foot) Nt = | AW20: =IF(AW18="","",(AW19/AW18)) | BB20: =IF(BB18="","",(BB19/BB18))
B21: 5
B22: Average | I22: =IF(I17="","",(AVERAGE(I17:P21))) | Q22: =IF(Q17="","",(AVERAGE(Q17:X21)))
B23: Standard Dev. | I23: =IF(I17="","",STDEV(I17:P21)) | Q23: =IF(Q17="","",STDEV(Q17:X21))
B25: Method B - Multi-Rib Test
B26: Machine Direction | AG26: Cross Machine Direction
B27: Sample No. | G27: Length in. | L27: Width in. | Q27: Number of Ribs | V27: Load at 2% Strain lbs. | AG27: Sample No. | AL27: Length in. | AQ27: Width in. | AV27: Number of Ribs | BA27: Load at 2% Strain lbs.
B28: 1 | G28: =IF('1048 WS Ult'!G28:K28="","",'1048 WS Ult'!G28:K28) | L28: =IF('1048 WS Ult'!L28:P28="","",'1048 WS Ult'!L28:P28) | Q28: =IF('1048 WS Ult'!Q28:U28="","",'1048 WS Ult'!Q28:U28) | AG28: 1 | AL28: =IF('1048 WS Ult'!AL28:AP28="","",'1048 WS Ult'!AL28:AP28) | AQ28: =IF('1048 WS Ult'!AQ28:AU28="","",'1048 WS Ult'!AQ28:AU28) | AV28: =IF('1048 WS Ult'!AV28:AZ28="","",'1048 WS Ult'!AV28:AZ28)
B29: 2 | G29: =IF('1048 WS Ult'!G29:K29="","",'1048 WS Ult'!G29:K29) | L29: =IF('1048 WS Ult'!L29:P29="","",'1048 WS Ult'!L29:P29) | Q29: =IF(Q28="","",Q28) | AG29: 2 | AL29: =IF('1048 WS Ult'!AL29:AP29="","",'1048 WS Ult'!AL29:AP29) | AQ29: =IF('1048 WS Ult'!AQ29:AU29="","",'1048 WS Ult'!AQ29:AU29) | AV29: =IF('1048 WS Ult'!AV29:AZ29="","",'1048 WS Ult'!AV29:AZ29)
B30: 3 | G30: =IF('1048 WS Ult'!G30:K30="","",'1048 WS Ult'!G30:K30) | L30: =IF('1048 WS Ult'!L30:P30="","",'1048 WS Ult'!L30:P30) | Q30: =IF(Q28="","",Q28) | AG30: 3 | AL30: =IF('1048 WS Ult'!AL30:AP30="","",'1048 WS Ult'!AL30:AP30) | AQ30: =IF('1048 WS Ult'!AQ30:AU30="","",'1048 WS Ult'!AQ30:AU30) | AV30: =IF('1048 WS Ult'!AV30:AZ30="","",'1048 WS Ult'!AV30:AZ30)
B31: 4 | G31: =IF('1048 WS Ult'!G31:K31="","",'1048 WS Ult'!G31:K31) | L31: =IF('1048 WS Ult'!L31:P31="","",'1048 WS Ult'!L31:P31) | Q31: =IF(Q28="","",Q28) | AG31: 4 | AL31: =IF('1048 WS Ult'!AL31:AP31="","",'1048 WS Ult'!AL31:AP31) | AQ31: =IF('1048 WS Ult'!AQ31:AU31="","",'1048 WS Ult'!AQ31:AU31) | AV31: =IF('1048 WS Ult'!AV31:AZ31="","",'1048 WS Ult'!AV31:AZ31)
B32: 5 | G32: =IF('1048 WS Ult'!G32:K32="","",'1048 WS Ult'!G32:K32) | L32: =IF('1048 WS Ult'!L32:P32="","",'1048 WS Ult'!L32:P32) | Q32: =IF(Q28="","",Q28) | AG32: 5 | AL32: =IF('1048 WS Ult'!AL32:AP32="","",'1048 WS Ult'!AL32:AP32) | AQ32: =IF('1048 WS Ult'!AQ32:AU32="","",'1048 WS Ult'!AQ32:AU32) | AV32: =IF('1048 WS Ult'!AV32:AZ32="","",'1048 WS Ult'!AV32:AZ32)
B33: Average | G33: =IF(G28="","",AVERAGE(G28:K32)) | L33: =IF(L28="","",AVERAGE(L28:P32)) | Q33: =IF(Q28="","",AVERAGE(Q28:U32)) | V33: =IF(V28="","",AVERAGE(V28:AD32)) | AG33: Average | AL33: =IF(AL28="","",AVERAGE(AL28:AP32)) | AQ33: =IF(AQ28="","",AVERAGE(AQ28:AU32)) | AV33: =IF(AV28="","",AVERAGE(AV28:AZ32)) | BA33: =IF(BA28="","",AVERAGE(BA28:BI32))
B34: Std. Dev. | V34: =IF(V28="","",STDEV(V28:AD32)) | AG34: Std. Dev. | BA34: =IF(BA28="","",STDEV(BA28:BI32))
G36: Tensile Strength at 2% Strain (lb/ft) | AL36: Tensile Strength at 2% Strain (lb/ft)
B37: Sample No. | AG37: Sample No.
B38: 1 | G38: =IF(V28="","",(V28/Q28)*AW20) | AG38: 1 | AL38: =IF(BA28="","",(BA28/AV28)*BB20)
B39: 2 | G39: =IF(V29="","",(V29/Q29)*AW20) | AG39: 2 | AL39: =IF(BA29="","",(BA29/AV29)*BB20)
B40: 3 | G40: =IF(V30="","",(V30/Q30)*AW20) | AG40: 3 | AL40: =IF(BA30="","",(BA30/AV30)*BB20)
B41: 4 | G41: =IF(V31="","",(V31/Q31)*AW20) | AG41: 4 | AL41: =IF(BA31="","",(BA31/AV31)*BB20)
B42: 5 | G42: =IF(V32="","",(V32/Q32)*AW20) | AG42: 5 | AL42: =IF(BA32="","",(BA32/AV32)*BB20)
B43: Average | G43: =IF(G38="","",AVERAGE(G38:N42)) | AG43: Average | AL43: =IF(AL38="","",AVERAGE(AL38:AS42))
B44: Std. Dev. | G44: =IF(G39="","",STDEV(G38:N42)) | AG44: Std. Dev. | AL44: =IF(AL39="","",STDEV(AL38:AS42))
...

Sheet 1048 WS 5%
L1: Geogrid Test Worksheet 3 ASTM D 6637 - Tensile Properties of Geogrids | AZ1: ITD 1048 (Rev. 10-19)
AZ2: itd.idaho.gov
O3: Strength at 5% Strain
B5: Sample Of | AL5: LIMS Number | AV5: Lab Number
B6: =IF('1048 WS Ult'!B6:AD6="","",'1048 WS Ult'!B6:AD6) | AL6: =IF('1048 WS Ult'!AF6:AQ6="","",'1048 WS Ult'!AF6:AQ6) | AV6: =IF('1048 WS Ult'!AV6:BI6="","",'1048 WS Ult'!AV6:BI6)
B7: Key Number | H7: Project Number | AC7: Project Name | BF7: District
B8: =IF('1048 WS Ult'!B8:G8="","",'1048 WS Ult'!B8:G8) | H8: =IF('1048 WS Ult'!H8:AB8="","",'1048 WS Ult'!H8:AB8) | AC8: =IF('1048 WS Ult'!AC8:BE8="","",'1048 WS Ult'!AC8:BE8) | BF8: =IF('1048 WS Ult'!BF8:BI8="","",'1048 WS Ult'!BF8:BI8)
B9: Sample Identification Number | Z9: Contract Item Number | AR9: Quantity Represented
B10: =IF('1048 WS Ult'!B10:Y10="","",'1048 WS Ult'!B10:Y10) | Z10: =IF('1048 WS Ult'!Z10:AQ10="","",'1048 WS Ult'!Z10:AQ10) | AR10: =IF('1048 WS Ult'!AR10:BI10="","",'1048 WS Ult'!AR10:BI10)
B11: Send Reports To (Resident Engineer's Name) | T11: Sampled By | AL11: WAQTC Number | AT11: Date Sampled | BB11: Date Lab Received
B12: =IF('1048 WS Ult'!B12:S12="","",'1048 WS Ult'!B12:S12) | T12: =IF('1048 WS Ult'!T12:AK12="","",'1048 WS Ult'!T12:AK12) | AL12: =IF('1048 WS Ult'!AL12:AS12="","",'1048 WS Ult'!AL12:AS12) | AT12: =IF('1048 WS Ult'!AT12:BA12="","",'1048 WS Ult'!AT12:BA12) | BB12: =IF('1048 WS Ult'!BB12:BI12="","",'1048 WS Ult'!BB12:BI12)
B14: Method A - Single Rib Test
B15: Sample No. | I15: Breaking Load, lbs. | AF15: Determine number of ribs per unit width (1 foot) - use a 6 ft measurement for the MD unit width.
I16: Machine Direction (MD) | Q16: Cross Machine Direction (XMD)
B17: 1 | AW17: XD | BB17: MD
B18: 2 | AF18: 95% of roll width, b (ft) = | AW18: =IF('1048 WS Ult'!AW18:BA18="","",'1048 WS Ult'!AW18:BA18) | BB18: =IF('1048 WS Ult'!BB18:BF18="","",'1048 WS Ult'!BB18:BF18)
B19: 3 | AF19: No. of ribs in b, Nc = | AW19: =IF('1048 WS Ult'!AW19:BA19="","",'1048 WS Ult'!AW19:BA19) | BB19: =IF('1048 WS Ult'!BB19:BF19="","",'1048 WS Ult'!BB19:BF19)
B20: 4 | AF20: No. of ribs in in unti width (ft) Nt = | AW20: =IF(OR(AW18="",AW19=""),"",(AW19/AW18)) | BB20: =IF(OR(BB18="",BB19=""),"",(BB19/BB18))
B21: 5
B22: Average | I22: =IF(I17="","",(AVERAGE(I17:P21))) | Q22: =IF(Q17="","",(AVERAGE(Q17:X21)))
B23: Standard Dev. | I23: =IF(I18="","",STDEV(I17:P21)) | Q23: =IF(Q17="","",STDEV(Q17:X21))
B25: Method B - Multi-Rib Test
B26: Machine Direction | AG26: Cross Machine Direction
B27: Sample No. | G27: Length in. | L27: Width in. | Q27: Number of Ribs | V27: Load at 5% Strain (lbs.) | AG27: Sample No. | AL27: Length in. | AQ27: Width in. | AV27: Number of Ribs | BA27: Load at 5% Strain (lbs.)
B28: 1 | G28: =IF('1048 WS Ult'!G28:K28="","",'1048 WS Ult'!G28:K28) | L28: =IF('1048 WS Ult'!L28:P28="","",'1048 WS Ult'!L28:P28) | Q28: =IF('1048 WS Ult'!Q28:U28="","",'1048 WS Ult'!Q28:U28) | AG28: 1 | AL28: =IF('1048 WS Ult'!AL28:AP28="","",'1048 WS Ult'!AL28:AP28) | AQ28: =IF('1048 WS Ult'!AQ28:AU28="","",'1048 WS Ult'!AQ28:AU28) | AV28: =IF('1048 WS Ult'!AV28:AZ28="","",'1048 WS Ult'!AV28:AZ28)
B29: 2 | G29: =IF('1048 WS Ult'!G29:K29="","",'1048 WS Ult'!G29:K29) | L29: =IF('1048 WS Ult'!L29:P29="","",'1048 WS Ult'!L29:P29) | Q29: =IF(Q28="","",Q28) | AG29: 2 | AL29: =IF('1048 WS Ult'!AL29:AP29="","",'1048 WS Ult'!AL29:AP29) | AQ29: =IF('1048 WS Ult'!AQ29:AU29="","",'1048 WS Ult'!AQ29:AU29) | AV29: =IF('1048 WS Ult'!AV29:AZ29="","",'1048 WS Ult'!AV29:AZ29)
B30: 3 | G30: =IF('1048 WS Ult'!G30:K30="","",'1048 WS Ult'!G30:K30) | L30: =IF('1048 WS Ult'!L30:P30="","",'1048 WS Ult'!L30:P30) | Q30: =IF(Q28="","",Q28) | AG30: 3 | AL30: =IF('1048 WS Ult'!AL30:AP30="","",'1048 WS Ult'!AL30:AP30) | AQ30: =IF('1048 WS Ult'!AQ30:AU30="","",'1048 WS Ult'!AQ30:AU30) | AV30: =IF('1048 WS Ult'!AV30:AZ30="","",'1048 WS Ult'!AV30:AZ30)
B31: 4 | G31: =IF('1048 WS Ult'!G31:K31="","",'1048 WS Ult'!G31:K31) | L31: =IF('1048 WS Ult'!L31:P31="","",'1048 WS Ult'!L31:P31) | Q31: =IF(Q28="","",Q28) | AG31: 4 | AL31: =IF('1048 WS Ult'!AL31:AP31="","",'1048 WS Ult'!AL31:AP31) | AQ31: =IF('1048 WS Ult'!AQ31:AU31="","",'1048 WS Ult'!AQ31:AU31) | AV31: =IF('1048 WS Ult'!AV31:AZ31="","",'1048 WS Ult'!AV31:AZ31)
B32: 5 | G32: =IF('1048 WS Ult'!G32:K32="","",'1048 WS Ult'!G32:K32) | L32: =IF('1048 WS Ult'!L32:P32="","",'1048 WS Ult'!L32:P32) | Q32: =IF(Q28="","",Q28) | AG32: 5 | AL32: =IF('1048 WS Ult'!AL32:AP32="","",'1048 WS Ult'!AL32:AP32) | AQ32: =IF('1048 WS Ult'!AQ32:AU32="","",'1048 WS Ult'!AQ32:AU32) | AV32: =IF('1048 WS Ult'!AV32:AZ32="","",'1048 WS Ult'!AV32:AZ32)
B33: Average | G33: =IF(G28="","",AVERAGE(G28:K32)) | L33: =IF(L28="","",AVERAGE(L28:P32)) | Q33: =IF(Q28="","",AVERAGE(Q28:U32)) | V33: =IF(V28="","",AVERAGE(V28:AD32)) | AG33: Average | AL33: =IF(AL28="","",AVERAGE(AL28:AP32)) | AQ33: =IF(AQ28="","",AVERAGE(AQ28:AU32)) | AV33: =IF(AV28="","",AVERAGE(AV28:AZ32)) | BA33: =IF(BA28="","",AVERAGE(BA28:BI32))
B34: Std. Dev. | V34: =IF(V28="","",STDEV(V28:AD32)) | AG34: Std. Dev. | BA34: =IF(BA28="","",STDEV(BA28:BI32))
G36: Tensile Strength at 5% Strain (lb/ft) | AL36: Tensile Strength at 5% Strain (lb/ft)
B37: Sample No. | AG37: Sample No.
B38: 1 | G38: =IF(V28="","",(V28/Q28)*AW20) | AG38: 1 | AL38: =IF(BA28="","",(BA28/AV28)*BB20)
B39: 2 | G39: =IF(V29="","",(V29/Q29)*AW20) | AG39: 2 | AL39: =IF(BA29="","",(BA29/AV29)*BB20)
B40: 3 | G40: =IF(V30="","",(V30/Q30)*AW20) | AG40: 3 | AL40: =IF(BA30="","",(BA30/AV30)*BB20)
B41: 4 | G41: =IF(V31="","",(V31/Q31)*AW20) | AG41: 4 | AL41: =IF(BA31="","",(BA31/AV31)*BB20)
B42: 5 | G42: =IF(V32="","",(V32/Q32)*AW20) | AG42: 5 | AL42: =IF(BA32="","",(BA32/AV32)*BB20)
B43: Average | G43: =IF(G38="","",AVERAGE(G38:N42)) | AG43: Average | AL43: =IF(AL38="","",AVERAGE(AL38:AS42))
B44: Std. Dev. | G44: =IF(G39="","",STDEV(G38:N42)) | AG44: Std. Dev. | AL44: =IF(AL39="","",STDEV(AL38:AS42))
...

Sheet 1048 Results
L1: Geogrid Test Results | AY1: ITD 1048 (Rev. 10-19) itd.idaho.gov
B4: Sample Of (Contract Item) | AL4: LIMS Number | AV4: Lab Number
B5: =IF('1048 WS Ult'!B6:AD6="","",'1048 WS Ult'!B6:AD6) | AL5: =IF('1048 WS Ult'!AF6:AQ6="","",'1048 WS Ult'!AF6:AQ6) | AV5: =IF('1048 WS Ult'!AV6:BI6="","",'1048 WS Ult'!AV6:BI6)
B6: Key Number | H6: Project Number | AC6: Project Name | BF6: District
B7: =IF('1048 WS Ult'!B8:G8="","",'1048 WS Ult'!B8:G8) | H7: =IF('1048 WS Ult'!H8:AB8="","",'1048 WS Ult'!H8:AB8) | AC7: =IF('1048 WS Ult'!AC8:BE8="","",'1048 WS Ult'!AC8:BE8) | BF7: =IF('1048 WS Ult'!BF8:BI8="","",'1048 WS Ult'!BF8:BI8)
B8: Sample Identification Number | Z8: Contract Item Number | AR8: Quantity Represented
B9: =IF('1048 WS Ult'!B10:Y10="","",'1048 WS Ult'!B10:Y10) | Z9: =IF('1048 WS Ult'!Z10:AQ10="","",'1048 WS Ult'!Z10:AQ10) | AR9: =IF('1048 WS Ult'!AR10:BI10="","",'1048 WS Ult'!AR10:BI10)
B10: Send Reports To (Resident Engineer's Name) | T10: Sampled By | AL10: WAQTC Number | AT10: Date Sampled | BB10: Date Lab Received
B11: =IF('1048 WS Ult'!B12:S12="","",'1048 WS Ult'!B12:S12) | T11: =IF('1048 WS Ult'!T12:AK12="","",'1048 WS Ult'!T12:AK12) | AL11: =IF('1048 WS Ult'!AL12:AS12="","",'1048 WS Ult'!AL12:AS12) | AT11: =IF('1048 WS Ult'!AT12:BA12="","",'1048 WS Ult'!AT12:BA12) | BB11: =IF('1048 WS Ult'!BB12:BI12="","",'1048 WS Ult'!BB12:BI12)
M13: Average Test Values
B15: Tests Performed | M15: Machine Direction (MD) | Y15: Cross Machine Direction (XD) | AK15: Specified Value | AP15: Meet Spec.
B16: ASTM D 6637 | BB16: Standard Dev
AP17: Y | AR17: N | BB17: MD | BF17: XD
B18: Ult. Tensile Str., lbs/ft | M18: =IF('1048 WS Ult'!G43="","",'1048 WS Ult'!G43) | Y18: =IF('1048 WS Ult'!AL43="","",'1048 WS Ult'!AL43) | BB18: ='1048 WS Ult'!G44 | BF18: ='1048 WS Ult'!AL44
B19: Elongation, % | M19: =IF('1048 WS Ult'!O43="","",'1048 WS Ult'!O43) | Y19: =IF('1048 WS Ult'!AT43="","",'1048 WS Ult'!AT43) | BB19: ='1048 WS Ult'!O44 | BF19: ='1048 WS Ult'!AT44
B21: Tensile Strength @ 2% Strain, lbs/ft | M21: =IF('1048 WS 2%'!G43="","",'1048 WS 2%'!G43) | Y21: =IF('1048 WS 2%'!AL43="","",'1048 WS 2%'!AL43) | BB21: ='1048 WS 2%'!G44 | BF21: ='1048 WS 2%'!AL44
B24: Tensile Strength @ 5% Strain, lbs/ft | M24: =IF('1048 WS 5%'!G43="","",'1048 WS 5%'!G43) | Y24: =IF('1048 WS 5%'!AL43="","",'1048 WS 5%'!AL43) | BB24: ='1048 WS 5%'!G44 | BF24: ='1048 WS 5%'!AL44
B27: GRI-GG2
B28: Junction Strength, lbs
B30: I.D. Caliper
B32: Aperture Size Range, in
B35: Remarks
B36: Include: Batch No./Lot No./Roll No./Bill of Lading No.
B38: Tested By | V38: WAQTC Number | AC38: Date Tested | AJ38: Checked By | BB38: Date
AJ39: =IF('1048 WS Ult'!AJ47:BA47="","",'1048 WS Ult'!AJ47:BA47) | BB39: =IF('1048 WS Ult'!BB47:BI47="","",'1048 WS Ult'!BB47:BI47)
B40: Lab Manager | V40: Lab and File Number | AX40: Published Date
